BEGIN:VCALENDAR
VERSION:2.0
PRODID:-//MX-5 Racing Club - ECPv6.15.20//NONSGML v1.0//EN
CALSCALE:GREGORIAN
METHOD:PUBLISH
X-WR-CALNAME:MX-5 Racing Club
X-ORIGINAL-URL:https://mx5rc.se
X-WR-CALDESC:Händelser för MX-5 Racing Club
REFRESH-INTERVAL;VALUE=DURATION:PT1H
X-Robots-Tag:noindex
X-PUBLISHED-TTL:PT1H
BEGIN:VTIMEZONE
TZID:Europe/Stockholm
BEGIN:DAYLIGHT
TZOFFSETFROM:+0100
TZOFFSETTO:+0200
TZNAME:CEST
DTSTART:20250330T010000
END:DAYLIGHT
BEGIN:STANDARD
TZOFFSETFROM:+0200
TZOFFSETTO:+0100
TZNAME:CET
DTSTART:20251026T010000
END:STANDARD
BEGIN:DAYLIGHT
TZOFFSETFROM:+0100
TZOFFSETTO:+0200
TZNAME:CEST
DTSTART:20260329T010000
END:DAYLIGHT
BEGIN:STANDARD
TZOFFSETFROM:+0200
TZOFFSETTO:+0100
TZNAME:CET
DTSTART:20261025T010000
END:STANDARD
BEGIN:DAYLIGHT
TZOFFSETFROM:+0100
TZOFFSETTO:+0200
TZNAME:CEST
DTSTART:20270328T010000
END:DAYLIGHT
BEGIN:STANDARD
TZOFFSETFROM:+0200
TZOFFSETTO:+0100
TZNAME:CET
DTSTART:20271031T010000
END:STANDARD
END:VTIMEZONE
BEGIN:VEVENT
DTSTART;TZID=Europe/Stockholm:20260607T080000
DTEND;TZID=Europe/Stockholm:20260607T163000
DTSTAMP:20260419T194011
CREATED:20260226T104609Z
LAST-MODIFIED:20260226T134811Z
UID:2890-1780819200-1780849800@mx5rc.se
SUMMARY:Kinnekulle 7 juni (med SVKG)
DESCRIPTION:Du som medlem i MX-5 Racing Club är inbjuden att vara med på SVKGs välarrangerade och populära träff på Kinnekulle den 7 juni. Mer information om denna träff och hur du anmäler dig hittar du på deras hemsida här: https://svkg.se/evenemang/bankalas-2026/
URL:https://mx5rc.se/event/kinnekulle-7-juni-med-svkg/
CATEGORIES:Evenemang
END:VEVENT
BEGIN:VEVENT
DTSTART;VALUE=DATE:20260612
DTEND;VALUE=DATE:20260615
DTSTAMP:20260419T194011
CREATED:20260226T123005Z
LAST-MODIFIED:20260226T135204Z
UID:2911-1781222400-1781481599@mx5rc.se
SUMMARY:MX-5 Cup deltävling på Rudskogen 12-14 juni
DESCRIPTION:Årets andra deltävling i MX-5 Cup går av stapeln på Rudskogen motorbana i Norge den 12-14 juni.\nMer information om denna tävling läggs upp här: https://www.spvm.se/tavling/rudskogen-2026/
URL:https://mx5rc.se/event/mx-5-cup-deltavling-pa-rudskogen-12-14-juni/
CATEGORIES:Evenemang
END:VEVENT
END:VCALENDAR