BEGIN:VCALENDAR
VERSION:2.0
PRODID:-//MX-5 Racing Club - ECPv6.15.20//NONSGML v1.0//EN
CALSCALE:GREGORIAN
METHOD:PUBLISH
X-ORIGINAL-URL:https://mx5rc.se
X-WR-CALDESC:Händelser för MX-5 Racing Club
REFRESH-INTERVAL;VALUE=DURATION:PT1H
X-Robots-Tag:noindex
X-PUBLISHED-TTL:PT1H
BEGIN:VTIMEZONE
TZID:Europe/Stockholm
BEGIN:DAYLIGHT
TZOFFSETFROM:+0100
TZOFFSETTO:+0200
TZNAME:CEST
DTSTART:20250330T010000
END:DAYLIGHT
BEGIN:STANDARD
TZOFFSETFROM:+0200
TZOFFSETTO:+0100
TZNAME:CET
DTSTART:20251026T010000
END:STANDARD
BEGIN:DAYLIGHT
TZOFFSETFROM:+0100
TZOFFSETTO:+0200
TZNAME:CEST
DTSTART:20260329T010000
END:DAYLIGHT
BEGIN:STANDARD
TZOFFSETFROM:+0200
TZOFFSETTO:+0100
TZNAME:CET
DTSTART:20261025T010000
END:STANDARD
BEGIN:DAYLIGHT
TZOFFSETFROM:+0100
TZOFFSETTO:+0200
TZNAME:CEST
DTSTART:20270328T010000
END:DAYLIGHT
BEGIN:STANDARD
TZOFFSETFROM:+0200
TZOFFSETTO:+0100
TZNAME:CET
DTSTART:20271031T010000
END:STANDARD
END:VTIMEZONE
BEGIN:VEVENT
DTSTART;VALUE=DATE:20260501
DTEND;VALUE=DATE:20260504
DTSTAMP:20260419T174753
CREATED:20260226T122552Z
LAST-MODIFIED:20260226T135139Z
UID:2909-1777593600-1777852799@mx5rc.se
SUMMARY:MX-5 Cup deltävling på Anderstorp 1-3 maj
DESCRIPTION:Årets första deltävling i MX-5 Cup går av stapeln på Anderstorp Raceway den 1-3 maj.\nMer information om denna tävling läggs upp här: https://www.spvm.se/tavling/anderstorp-2026/
URL:https://mx5rc.se/event/mx-5-cup-deltavling-pa-anderstorp-1-3-maj/
CATEGORIES:Evenemang
END:VEVENT
BEGIN:VEVENT
DTSTART;TZID=Europe/Stockholm:20260510T083000
DTEND;TZID=Europe/Stockholm:20260510T163000
DTSTAMP:20260419T174753
CREATED:20260226T100154Z
LAST-MODIFIED:20260414T185457Z
UID:2873-1778401800-1778430600@mx5rc.se
SUMMARY:Lunda 10 maj
DESCRIPTION:Konbana\, rundbana och MX-5 Sprint Cup – Lunda \nAlla medlemmar i MX-5 Racing klubb\, både de som vill prova på för första gången och de mer erfarna\, är hjärtligt välkomna till förarövning på Lunda flygfält nordöst om Uppsala. \nDet erbjuds 3 olika aktiviteter:\nA) Slalomkörning på landningsbanan med en konbanan som kommer vara ca 1\,5 km och väldigt teknisk med bland annat: kurvtagning under acceleration\, kurvtagning under inbromsning\, hårnål i låg fart och rak slalom i hög fart. Hastigheten genom konbanans olika delar kommer ligger mellan ca 40-100 km/h vilket passar våra bilar mycket bra.\nVi kommer erbjuda tidtagning under hela dagen i konbanan.\nB) Bankörning på en slinga som består av taxbanorna under hela dagen. Även om det inte är en ”riktig” bana\, som t.ex. Kinnekulle\, är det en mycket rolig teknisk slinga med snäva kurvor som passar Miatan mycket bra. Rundbanan som är knappt 1 km lång innebär också lite lägre fart än en ”riktig” banan vilket passar speciellt bra om man har begränsad erfarenhet av bankörning.\nC) Deltävling i MX-5 Sprint Cup (klubbens serie i konbana). Under en begränsad tid under dagen kommer denna tävling genomföras i konbanan. Det kommer finnas 2 klasser: bilar med gat-däck och bilar med R-däck. \nDagen startar med samling från 08:30. Den obligatoriska förar- och säkerhetsgenomgången startar prick 09:30. Efter denna förargenomgång är det fri körning i rundbana och konbana fram till 16:30. \nHur du säkrar en plats på denna träffen:\nNotera att anmälan till förarövningen sker i två steg. Först anmäler du dig via anmälningsformuläret du hittar här: Anmäl dig här\nSedan betalar du in avgiften\, 550 kr för medlemmar i MX-5 Racing Club och 750 kr för övriga\, till klubbens Plusgiro 453146-3 eller Bankgiro 223-0811.\nOBS: När du betalar in ange ”260510 #XYZ” (datum i YYMMDD-format samt medlemsnummer alt namn om du inte är medlem). \nFörsäkring:\nAlla som deltar (förare eller passagerare på banan) måste vara försäkringar via SMA. SMA-försäkring kan antingen lösas för ett helt år eller som engångslicens via www.svenskamotorsportalliansen.se\nOBS: VI ERBJUDER INTE FÖRSÄLJNING AV ENGÅNGSLICENSER PÅ PLATS\nMer information om inbetalning och regler för banträffar hittar du på hemsidan under Träffar. \nTräffansvarig: Andreas Eckemark (kan nå mig via ”Kontakta oss” på hemsidan eller telefon: 076-7219531) \nVarmt välkomna till förarövningen på Lunda.
URL:https://mx5rc.se/event/lunda-10-maj/
LOCATION:Lunda\, bollungen 103\, Alunda\, 74791
CATEGORIES:Evenemang
END:VEVENT
BEGIN:VEVENT
DTSTART;VALUE=DATE:20260515
DTEND;VALUE=DATE:20260516
DTSTAMP:20260419T174753
CREATED:20260226T102414Z
LAST-MODIFIED:20260226T134940Z
UID:2883-1778803200-1778889599@mx5rc.se
SUMMARY:Knutstorp 15 maj (med Lotusklubben)
DESCRIPTION:Du som medlem i MX-5 Racing Club är inbjuden att vara med på Lotusklubbens välarrangerade och populära träff på Ring Knutstorp den 15 maj. Mer information om denna träff och hur du anmäler dig kommer läggas upp på deras hemsida här: https://lccs.nu/kalender/
URL:https://mx5rc.se/event/knutstorp-15-maj-med-lotusklubben/
CATEGORIES:Evenemang
END:VEVENT
BEGIN:VEVENT
DTSTART;TZID=Europe/Stockholm:20260523T083000
DTEND;TZID=Europe/Stockholm:20260523T170000
DTSTAMP:20260419T174753
CREATED:20260226T103423Z
LAST-MODIFIED:20260414T185413Z
UID:2888-1779525000-1779555600@mx5rc.se
SUMMARY:Salabanan 23 maj
DESCRIPTION:Banträff och MX-5 Sprint Cup på Salabanan\nFörarövningen på Salabanan kommer erbjuda 2 olika aktiviteter: \nA) Traditionell bankörning på banan.\nKörning där minst 2 olika slingor kommer köras under dagen \nB) Deltävling i MX-5 Sprint Cup för de som valt att vara med och köra klubbens serie i kon/rundbana. Under en begränsad tid under dagen kommer en deltävling i denna Sprint Cup genomföras på den tekniska och kurviga banan. Det kommer finnas 2 klasser: bilar med gat-däck och bilar med R-däck. \nDagen startar med samling från 08:30 till 09:30. Den obligatoriska förar och säkerhetsgenomgången startar prick 09:30. Efter denna förargenomgång är det fri körning på banan fram till ca: 17:00.\nFör att ge alla deltagare tillräcklig körtid och plats på banan är antalet förare begränsade (maximalt 30 deltagare) och det är först till kvarn som gäller.\nHur du säkrar en plats på denna träffen:\nNotera att anmälan till förarövningen sker i två steg. Först anmäler du dig via anmälningsformuläret du hittar här: Anmäl dig här\nSedan betalar du in avgiften\, 650 kr för medlemmar i MX-5 Racing Club och 900 kr för övriga\, till klubbens Plusgiro 453146-3 eller Bankgiro 223-0811.\nOBS: När du betalar in ange ”260523 #XYZ” (datum i YYMMDD-format samt medlemsnummer alt namn om du inte är medlem). \nFörsäkring:\nAlla som deltar (förare eller passagerare på banan) måste vara försäkringar via SMA. SMA-försäkring kan antingen lösas för ett helt år eller som engångslicens via www.svenskamotorsportalliansen.se\nOBS: VI ERBJUDER INTE FÖRSÄLJNING AV ENGÅNGSLICENSER PÅ PLATS\nMer information om inbetalning och regler för banträffar hittar du på hemsidan under Träffar. \nTräffansvarig: Johan Teden \nVarmt välkomna till Salabanan
URL:https://mx5rc.se/event/salabanan-23-maj/
LOCATION:Salabanan\, Olsbo 125\, 733 95 Sala\, Sala
CATEGORIES:Evenemang
END:VEVENT
END:VCALENDAR