BEGIN:VCALENDAR
VERSION:2.0
PRODID:-//MX-5 Racing Club - ECPv6.15.20//NONSGML v1.0//EN
CALSCALE:GREGORIAN
METHOD:PUBLISH
X-WR-CALNAME:MX-5 Racing Club
X-ORIGINAL-URL:https://mx5rc.se
X-WR-CALDESC:Händelser för MX-5 Racing Club
REFRESH-INTERVAL;VALUE=DURATION:PT1H
X-Robots-Tag:noindex
X-PUBLISHED-TTL:PT1H
BEGIN:VTIMEZONE
TZID:Europe/Stockholm
BEGIN:DAYLIGHT
TZOFFSETFROM:+0100
TZOFFSETTO:+0200
TZNAME:CEST
DTSTART:20240331T010000
END:DAYLIGHT
BEGIN:STANDARD
TZOFFSETFROM:+0200
TZOFFSETTO:+0100
TZNAME:CET
DTSTART:20241027T010000
END:STANDARD
BEGIN:DAYLIGHT
TZOFFSETFROM:+0100
TZOFFSETTO:+0200
TZNAME:CEST
DTSTART:20250330T010000
END:DAYLIGHT
BEGIN:STANDARD
TZOFFSETFROM:+0200
TZOFFSETTO:+0100
TZNAME:CET
DTSTART:20251026T010000
END:STANDARD
BEGIN:DAYLIGHT
TZOFFSETFROM:+0100
TZOFFSETTO:+0200
TZNAME:CEST
DTSTART:20260329T010000
END:DAYLIGHT
BEGIN:STANDARD
TZOFFSETFROM:+0200
TZOFFSETTO:+0100
TZNAME:CET
DTSTART:20261025T010000
END:STANDARD
END:VTIMEZONE
BEGIN:VEVENT
DTSTART;TZID=Europe/Stockholm:20250907T083000
DTEND;TZID=Europe/Stockholm:20250907T163000
DTSTAMP:20260420T041335
CREATED:20241229T155756Z
LAST-MODIFIED:20250511T093530Z
UID:1804-1757233800-1757262600@mx5rc.se
SUMMARY:Lunda 7 september
DESCRIPTION:Konbana\, rundbana och MX-5 Sprint Cup – Lunda \nAlla medlemmar i MX-5 Racing klubb\, både de som vill prova på för första gången och de mer erfarna\, är hjärtligt välkomna till förarövning på Lunda flygfält nordöst om Uppsala. \nDet erbjuds 3 olika aktiviteter:\nA) Slalomkörning på landningsbanan med en konbanan som kommer vara ca 1\,5 km och väldigt teknisk med bland annat: kurvtagning under acceleration\, kurvtagning under inbromsning\, hårnål i låg fart och rak slalom i hög fart. Hastigheten genom konbanans olika delar kommer ligger mellan ca 40-100 km/h vilket passar våra bilar mycket bra.\nVi kommer erbjuda tidtagning under hela dagen i konbanan.\nB) Bankörning på en slinga som består av taxbanorna under hela dagen. Även om det inte är en ”riktig” bana\, som t.ex. Kinnekulle\, är det en mycket rolig teknisk slinga med snäva kurvor som passar Miatan mycket bra. Rundbanan som är knappt 1 km lång innebär också lite lägre fart än en ”riktig” banan vilket passar speciellt bra om man har begränsad erfarenhet av bankörning.\nC) Deltävling i MX-5 Sprint Cup (klubbens serie i konbana). Under en begränsad tid under dagen kommer denna tävling genomföras i konbanan. Det kommer finnas 2 klasser: bilar med gat-däck och bilar med R-däck. \nDagen startar med samling från 08:30. Den obligatoriska förar- och säkerhetsgenomgången startar prick 09:30. Efter denna förargenomgång är det fri körning i rundbana och konbana fram till 16:30. \nHur du säkrar en plats på denna träffen:\nNotera att anmälan till förarövningen sker i två steg. Först anmäler du dig via anmälningsformuläret du hittar här: Anmäl dig här\nSedan betalar du in avgiften\, 500 kr för medlemmar i MX-5 Racing Club och 650 kr för övriga\, till klubbens Plusgiro 453146-3 eller Bankgiro 223-0811.\nOBS: När du betalar in ange ”250907 #XYZ” (datum i YYMMDD-format samt medlemsnummer alt namn om du inte är medlem). \nFörsäkring:\nAlla som deltar (förare eller passagerare på banan) måste vara försäkringar via SMA. SMA-försäkring kan antingen lösas för ett helt år eller som engångslicens via www.svenskamotorsportalliansen.se\nOBS: VI ERBJUDER INTE FÖRSÄLJNING AV ENGÅNGSLICENSER PÅ PLATS\nMer information om inbetalning och regler för banträffar hittar du på hemsidan under Träffar. \nTräffansvarig: Andreas Eckemark (kan nå mig via ”Kontakta oss” på hemsidan eller telefon: 076-7219531) \nVarmt välkomna till förarövningen på Lunda.
URL:https://mx5rc.se/event/lunda-7-september/
LOCATION:Lunda\, bollungen 103\, Alunda\, 74791
CATEGORIES:Evenemang
END:VEVENT
BEGIN:VEVENT
DTSTART;TZID=Europe/Stockholm:20250912T080000
DTEND;TZID=Europe/Stockholm:20250914T170000
DTSTAMP:20260420T041335
CREATED:20241229T154427Z
LAST-MODIFIED:20241229T154427Z
UID:1795-1757664000-1757869200@mx5rc.se
SUMMARY:MX-5 Cup deltävling på Falkenberg motorbana 12-14 september
DESCRIPTION:Årets sista deltävling i MX-5 Cup går av stapeln på Falkenberg motorbana 12-14 september i samband med Falkenberg Classic.\nMer information om denna tävling kommer läggas upp här: https://www.spvm.se/tavling/falkenberg-2025/
URL:https://mx5rc.se/event/mx-5-cup-deltavling-pa-falkenberg-motorbana-12-14-september/
CATEGORIES:Evenemang
END:VEVENT
END:VCALENDAR