BEGIN:VCALENDAR
VERSION:2.0
PRODID:-//MX-5 Racing Club - ECPv6.15.20//NONSGML v1.0//EN
CALSCALE:GREGORIAN
METHOD:PUBLISH
X-WR-CALNAME:MX-5 Racing Club
X-ORIGINAL-URL:https://mx5rc.se
X-WR-CALDESC:Händelser för MX-5 Racing Club
REFRESH-INTERVAL;VALUE=DURATION:PT1H
X-Robots-Tag:noindex
X-PUBLISHED-TTL:PT1H
BEGIN:VTIMEZONE
TZID:Europe/Stockholm
BEGIN:DAYLIGHT
TZOFFSETFROM:+0100
TZOFFSETTO:+0200
TZNAME:CEST
DTSTART:20240331T010000
END:DAYLIGHT
BEGIN:STANDARD
TZOFFSETFROM:+0200
TZOFFSETTO:+0100
TZNAME:CET
DTSTART:20241027T010000
END:STANDARD
BEGIN:DAYLIGHT
TZOFFSETFROM:+0100
TZOFFSETTO:+0200
TZNAME:CEST
DTSTART:20250330T010000
END:DAYLIGHT
BEGIN:STANDARD
TZOFFSETFROM:+0200
TZOFFSETTO:+0100
TZNAME:CET
DTSTART:20251026T010000
END:STANDARD
BEGIN:DAYLIGHT
TZOFFSETFROM:+0100
TZOFFSETTO:+0200
TZNAME:CEST
DTSTART:20260329T010000
END:DAYLIGHT
BEGIN:STANDARD
TZOFFSETFROM:+0200
TZOFFSETTO:+0100
TZNAME:CET
DTSTART:20261025T010000
END:STANDARD
END:VTIMEZONE
BEGIN:VEVENT
DTSTART;TZID=Europe/Stockholm:20250803T080000
DTEND;TZID=Europe/Stockholm:20250803T170000
DTSTAMP:20260420T060009
CREATED:20241229T155348Z
LAST-MODIFIED:20250716T184615Z
UID:1800-1754208000-1754240400@mx5rc.se
SUMMARY:Gelleråsen 3 augusti
DESCRIPTION:MX-5 Racing Clubs Banträff på Gelleråsen\nDu är varmt välkomna till MX-5 Racing Clubs Bankalas på Gelleråsen utanför Karlskoga! \nFör er som inte varit på Gelleråsen tidigare:\nTa chansen och testa en klassisk svensk motorbana som har en utmanande mix av kurvkombinationer\, kraftiga inbromsningar\, snäva långsammare kurvor och högfartssvängar. Att banan dessutom är förlåtande med väl tilltagna avåkningszoner är ytterligare en fördel. \nTidsprogram:\n07.45 – 08.45 Besiktning av bilarna\n08:45 – 09.00 Obligatoriskt förarsammanträde vid depåutfarten\nOBS! Innan körning måste bilarna vara besiktigade!\nMed start 09.00 fri körning för samtliga bilar utan tidtagning med indelning i 3 grupper med ca 20-minuters pass:\n1: Lugna passet (nybörjare)\n2: Medel-passet (mer rutinerade banåkare)\n3: Snabba-passet (mycket rutinerade samt godkänd tävlingsbil)\nFrån ca 15:20 kommer det vara Open Pitline (dvs fri körning för alla utan gruppindelning) \nDå vi på denna träff kommer ha 2 flaggposteringar på banan kommer de flesta av deltagarna behöva stå flaggvakt ett pass (ungefär 30 minuter) under dagen. \nHur du säkrar en plats på denna träffen:\nNotera att anmälan till förarövningen sker i två steg. Förutom anmälan via anmälningsformuläret behöver du betalar in avgiften\, 1050 kr för medlemmar i MX-5 Racing Club och 1400 kr för övriga\, till klubbens Plusgiro 453146-3 eller Bankgiro 223-0811.\nObservera: I priset ingår lunch i restaurangen på banan. \nOBS: När du betalar in ange ”250803 #XYZ” (datumet i YYMMDD-format samt XYZ = medlemsnummer).\nMer information om inbetalning och regler för banträffar hittar du på hemsidan under Träffar. \nFörsäkring på bankalaset:\nAlla som deltar (förare eller passagerare på banan) måste vara försäkringar via SMA. SMA-försäkring kan antingen lösas för ett helt år eller som engångslicens via www.svenskamotorsportalliansen.se\nOBS: VI ERBJUDER INTE FÖRSÄLJNING AV ENGÅNGSLICENSER PÅ PLATS\nKostnader för skador på 2e man (banans inventarier) kan faktureras vidare. \nSäkerhetskrav (lägsta nivå):\nDig själv:\n– Hjälm\, handskar\, läderskor samt heltäckande bomullsklädsel\n– SMA-licens (engång eller helår)\nDin bil:\n– Säkerhetsbälte\n– Båge/rundslagningsskydd krävs i öppen bil\, för mer information om vilken typ av båge som krävs se: https://mx5racingclub.se/forum/viewtopic.php?f=8&t=2217 \nBullerkrav för bankalas:\nFör samtliga bilar gäller max. 95 dB(A) mätt vid förbipassering på raksträcka under acceleration.\nDe bilar som ej klarar denna gräns måste tyvärr tas av banan. \nKörpassorganisation:\nFörare bilar delas normalt in i tre körpass (Snabba\, Medel och Lugna)\nNär förarsammanträdet är klart ställer förarna i upp bilarna i tre köer uppmärkta med vald färg (färgad kona eller liknande). Målsättningen är att hinna med tre körpass i timmen. När ett körpass är avflaggat så återgår man till ”sin” kö om man är redo för att köra nästa pass. Om man behöver kyla av bromsar\, tanka etc så gör man det innan man ställer sig i kön igen. I kön står endast körklara ekipage (på detta sätt undviks stopp i kön pga stillastående ekipage). En annan åtgärd som underlättar är att behålla nycklarna i tändningslåset när man parkerat på plats där det eventuellt kan finnas risk att bilen kan behöva flyttas. \nTräffansvarig: Andreas Eckemark (kan nå mig via ”Kontakta oss” på hemsidan eller telefon: 076-7219531) \nVarmt välkomna till MX-5 Racing Clubs banträff på Gelleråsen.
URL:https://mx5rc.se/event/bantraff-pa-gellerasen-3-augusti/
LOCATION:Gelleråsen\, Gälleråsen 656\, Karlskoga\, 691 91
CATEGORIES:Evenemang
END:VEVENT
BEGIN:VEVENT
DTSTART;TZID=Europe/Stockholm:20250817T090000
DTEND;TZID=Europe/Stockholm:20250817T160000
DTSTAMP:20260420T060009
CREATED:20241229T160139Z
LAST-MODIFIED:20250126T135552Z
UID:1806-1755421200-1755446400@mx5rc.se
SUMMARY:Ljungbyhed 17 augusti
DESCRIPTION:Konbana och MX-5 Sprint Cup – Ljungbyhed Park\nAlla medlemmar i MX-5 Racing klubb\, både de som vill prova på för första gången och de mer erfarna\, är hjärtligt välkomna på körning i konbana på Ljungbyheds flygfält. \nDet kommer att bli 2 olika aktiviteter:\nA) Slalomkörning i en teknisk konbana. Hastigheten genom konbanans olika delar kommer ligger mellan ca 40-100 km/h vilket passar våra bilar mycket bra. Vi erbjuder tidtagning under hela dagen i konbanan.\nB) Deltävling i MX-5 Sprint Cup (klubbens serie i konbana). Under en begränsad tid under dagen kommer denna tävling genomföras i konbanan. Det kommer finnas 2 klasser: bilar med gat-däck och bilar med R-däck. \nDagen startar med samling från 09:00. Den obligatoriska förar- och säkerhetsgenomgången startar prick 09:30. Efter denna förargenomgång är det fri körning i konbanan fram till ca 16:00.\nFör att ge alla deltagare tillräcklig körtid är antalet förare begränsade och det är först till kvarn som gäller. \nHur du säkrar en plats på denna träffen:\nNotera att anmälan till förarövningen sker i två steg. Först anmäler du dig via anmälningsformuläret du hittar här: Anmäl dig här\nSedan betalar du in avgiften (500 kr för medlemmar och 650 kr för övriga) till klubbens Plusgiro 453146-3 eller Bankgiro 223-0811.\nOBS: När du betalar in ange ”250817 #XYZ” (datumet i YYMMDD-format samt XYZ = medlemsnummer alt namn om du inte är medlem). \nFörsäkring:\nAlla som deltar (förare eller passagerare på banan) måste vara försäkringar via SMA. SMA-försäkring kan antingen lösas för ett helt år eller som engångslicens via www.svenskamotorsportalliansen.se\nOBS: VI ERBJUDER INTE FÖRSÄLJNING AV ENGÅNGSLICENSER PÅ PLATS\nMer information om inbetalning och regler för banträffar hittar du på hemsidan under Träffar.\nTräffansvarig: Victor Bagge\nVarmt välkomna till Konbana på Ljungbyhed Park.
URL:https://mx5rc.se/event/ljungbyhed-17-augusti/
LOCATION:Ljungbyhed\, Thulinvägen 23\, Ljungbyhed\, 26451
CATEGORIES:Evenemang
END:VEVENT
BEGIN:VEVENT
DTSTART;TZID=Europe/Stockholm:20250823T083000
DTEND;TZID=Europe/Stockholm:20250823T170000
DTSTAMP:20260420T060009
CREATED:20241229T160431Z
LAST-MODIFIED:20250126T135303Z
UID:1808-1755937800-1755968400@mx5rc.se
SUMMARY:Salabanan 23 augusti
DESCRIPTION:Banträff och MX-5 Sprint Cup på Salabanan\nFörarövningen på Salabanan kommer erbjuda 2 olika aktiviteter: \nA) Traditionell bankörning på banan.\nKörning där minst 2 olika slingor kommer köras under dagen \nB) Deltävling i MX-5 Sprint Cup för de som valt att vara med och köra klubbens serie i kon/rundbana. Under en begränsad tid under dagen kommer en deltävling i denna Sprint Cup genomföras på den tekniska och kurviga banan. Det kommer finnas 2 klasser: bilar med gat-däck och bilar med R-däck. \nDagen startar med samling från 08:30 till 09:30. Den obligatoriska förar och säkerhetsgenomgången startar prick 09:30. Efter denna förargenomgång är det fri körning på banan fram till ca: 17:00.\nFör att ge alla deltagare tillräcklig körtid och plats på banan är antalet förare begränsade (maximalt 30 deltagare) och det är först till kvarn som gäller.\nHur du säkrar en plats på denna träffen:\nNotera att anmälan till förarövningen sker i två steg. Först anmäler du dig via anmälningsformuläret du hittar här: Anmäl dig här\nSedan betalar du in avgiften\, 600 kr för medlemmar i MX-5 Racing Club och 800 kr för övriga\, till klubbens Plusgiro 453146-3 eller Bankgiro 223-0811.\nOBS: När du betalar in ange ”250823 #XYZ” (datum i YYMMDD-format samt medlemsnummer alt namn om du inte är medlem). \nFörsäkring:\nAlla som deltar (förare eller passagerare på banan) måste vara försäkringar via SMA. SMA-försäkring kan antingen lösas för ett helt år eller som engångslicens via www.svenskamotorsportalliansen.se\nOBS: VI ERBJUDER INTE FÖRSÄLJNING AV ENGÅNGSLICENSER PÅ PLATS\nMer information om inbetalning och regler för banträffar hittar du på hemsidan under Träffar. \nTräffansvarig: Johan Teden \nVarmt välkomna till Salabanan
URL:https://mx5rc.se/event/salabanan-23-augusti/
LOCATION:Salabanan\, Olsbo 125\, 733 95 Sala\, Sala
CATEGORIES:Evenemang
END:VEVENT
BEGIN:VEVENT
DTSTART;TZID=Europe/Stockholm:20250825T080000
DTEND;TZID=Europe/Stockholm:20250825T170000
DTSTAMP:20260420T060009
CREATED:20250119T075329Z
LAST-MODIFIED:20250119T075329Z
UID:1836-1756108800-1756141200@mx5rc.se
SUMMARY:Knutstorp 25 augusti (med SVKG)
DESCRIPTION:Du som medlem i MX-5 Racing Club är inbjuden att vara med på SVKGs välarrangerade och populära träff på Ring Knutstorp den 25 augusti. Mer information om denna träff och hur du anmäler dig kommer läggas upp på deras hemsida här: https://svkg.se/evenemang/banmote-ring-knutstorp-2025-08-25/
URL:https://mx5rc.se/event/knutstorp-25-augusti-med-svkg/
CATEGORIES:Evenemang
END:VEVENT
BEGIN:VEVENT
DTSTART;TZID=Europe/Stockholm:20250829T080000
DTEND;TZID=Europe/Stockholm:20250830T170000
DTSTAMP:20260420T060009
CREATED:20241229T154218Z
LAST-MODIFIED:20250628T162533Z
UID:1793-1756454400-1756573200@mx5rc.se
SUMMARY:MX-5 Cup deltävling på Anderstorp 29-31 augusti
DESCRIPTION:Årets tredje deltävling i MX-5 Cup går av stapeln på Anderstorp Raceway.\nMer information om denna tävling läggs upp här: https://www.spvm.se/tavling/anderstorp-2025/
URL:https://mx5rc.se/event/mx-5-cup-deltavling-pa-anderstorp-30-31-augusti/
CATEGORIES:Evenemang
END:VEVENT
END:VCALENDAR