BEGIN:VCALENDAR
VERSION:2.0
PRODID:-//MX-5 Racing Club - ECPv6.15.20//NONSGML v1.0//EN
CALSCALE:GREGORIAN
METHOD:PUBLISH
X-WR-CALNAME:MX-5 Racing Club
X-ORIGINAL-URL:https://mx5rc.se
X-WR-CALDESC:Händelser för MX-5 Racing Club
REFRESH-INTERVAL;VALUE=DURATION:PT1H
X-Robots-Tag:noindex
X-PUBLISHED-TTL:PT1H
BEGIN:VTIMEZONE
TZID:Europe/Stockholm
BEGIN:DAYLIGHT
TZOFFSETFROM:+0100
TZOFFSETTO:+0200
TZNAME:CEST
DTSTART:20240331T010000
END:DAYLIGHT
BEGIN:STANDARD
TZOFFSETFROM:+0200
TZOFFSETTO:+0100
TZNAME:CET
DTSTART:20241027T010000
END:STANDARD
BEGIN:DAYLIGHT
TZOFFSETFROM:+0100
TZOFFSETTO:+0200
TZNAME:CEST
DTSTART:20250330T010000
END:DAYLIGHT
BEGIN:STANDARD
TZOFFSETFROM:+0200
TZOFFSETTO:+0100
TZNAME:CET
DTSTART:20251026T010000
END:STANDARD
BEGIN:DAYLIGHT
TZOFFSETFROM:+0100
TZOFFSETTO:+0200
TZNAME:CEST
DTSTART:20260329T010000
END:DAYLIGHT
BEGIN:STANDARD
TZOFFSETFROM:+0200
TZOFFSETTO:+0100
TZNAME:CET
DTSTART:20261025T010000
END:STANDARD
END:VTIMEZONE
BEGIN:VEVENT
DTSTART;TZID=Europe/Stockholm:20250607T083000
DTEND;TZID=Europe/Stockholm:20250607T170000
DTSTAMP:20260420T093827
CREATED:20250119T074308Z
LAST-MODIFIED:20250525T173502Z
UID:1829-1749285000-1749315600@mx5rc.se
SUMMARY:Gröndal 7 juni
DESCRIPTION:MX-5 Sprint Cup på Gröndal \nFörarövningen på Gröndal utanför Eskilstuna kommer erbjuda 2 olika aktiviteter: \n\nA) Traditionell bankörning på banan.\nBanan kommer under dagen köras på båda hållen = 2 olika banor för priset av 1 och deltagarna delas upp i tre grupper (lugna\, medel och snabba) beroende på ambitionsnivå och erfarenhet så att får chansen att köra i sin takt.\nB) Deltävling i MX-5 Sprint Cup för de som valt att vara med och köra klubbens serie i kon/rundbana. Under en begränsad tid under dagen kommer en deltävling i denna Sprint Cup genomföras på den tekniska och kurviga banan. Det kommer finnas 2 klasser: bilar med gat-däck och bilar med R-däck.\n\nDagen startar med samling från 08:30 till 09:30. Den obligatoriska förar och säkerhetsgenomgången startar prick 09:30. Efter denna genomgång är det fri körning på banan fram till ca: 17:00.\nFör att ge alla deltagare tillräcklig körtid och plats på banan är antalet förare begränsade (maximalt 30 deltagare) och det är först till kvarn som gäller. \nHur du säkrar en plats på denna träffen:\nNotera att anmälan till förarövningen sker i två steg. Först anmäler du dig via anmälningsformuläret du hittar här: Anmäl dig här\nSedan betalar du in avgiften\, 700 kr för medlemmar i MX-5 Racing Club och 900 kr för övriga\, till klubbens Plusgiro 453146-3 eller Bankgiro 223-0811.\nOBS: När du betalar in ange ”250607 #XYZ” (datum i YYMMDD-format samt medlemsnummer alt namn om du inte är medlem). \nFörsäkring:\nAlla som deltar (förare eller passagerare på banan) måste vara försäkringar via SMA. SMA-försäkring kan antingen lösas för ett helt år eller som engångslicens via www.svenskamotorsportalliansen.se\nOBS: VI ERBJUDER INTE FÖRSÄLJNING AV ENGÅNGSLICENSER PÅ PLATS\nMer information om inbetalning och regler för banträffar hittar du på hemsidan under Träffar. \nTräffansvarig: Anders Söderlund \nVarmt välkomna till Gröndal
URL:https://mx5rc.se/event/grondal-7-juni/
LOCATION:Gröndal motorstadion\, Eskilstuna
CATEGORIES:Evenemang
END:VEVENT
BEGIN:VEVENT
DTSTART;TZID=Europe/Stockholm:20250608T080000
DTEND;TZID=Europe/Stockholm:20250608T170000
DTSTAMP:20260420T093827
CREATED:20250119T074946Z
LAST-MODIFIED:20250525T175801Z
UID:1833-1749369600-1749402000@mx5rc.se
SUMMARY:Kinnekulle 8 juni (med SVKG)
DESCRIPTION:Du som medlem i MX-5 Racing Club är inbjuden att vara med på SVKGs välarrangerade och populära träff på Kinnekulle Ring den 8 juni. Mer information om denna träff och hur du anmäler dig kommer läggas upp på deras hemsida här: : https://svkg.se/evenemang/bankalas-2025/ \nFör att anmäla dig mejla till: racing@svkg.se
URL:https://mx5rc.se/event/kinnekulle-8-juni-med-svkg/
CATEGORIES:Evenemang
END:VEVENT
BEGIN:VEVENT
DTSTART;TZID=Europe/Stockholm:20250614T080000
DTEND;TZID=Europe/Stockholm:20250615T170000
DTSTAMP:20260420T093827
CREATED:20241229T153555Z
LAST-MODIFIED:20250628T162436Z
UID:1788-1749888000-1750006800@mx5rc.se
SUMMARY:MX-5 Cup deltävling på Rudskogen 13-15 juni
DESCRIPTION:Årets första deltävling i MX-5 Cup går av stapeln på Rudskogen motorbana i Norge.\nMer information om denna tävling läggs upp här: https://www.spvm.se/tavling/rudskogen-2025/
URL:https://mx5rc.se/event/mx-5-cup-deltavling-rudskogen-13-15-juni/
CATEGORIES:Evenemang
END:VEVENT
END:VCALENDAR