BEGIN:VCALENDAR
VERSION:2.0
PRODID:-//MX-5 Racing Club - ECPv6.15.20//NONSGML v1.0//EN
CALSCALE:GREGORIAN
METHOD:PUBLISH
X-ORIGINAL-URL:https://mx5rc.se
X-WR-CALDESC:Händelser för MX-5 Racing Club
REFRESH-INTERVAL;VALUE=DURATION:PT1H
X-Robots-Tag:noindex
X-PUBLISHED-TTL:PT1H
BEGIN:VTIMEZONE
TZID:Europe/Stockholm
BEGIN:DAYLIGHT
TZOFFSETFROM:+0100
TZOFFSETTO:+0200
TZNAME:CEST
DTSTART:20230326T010000
END:DAYLIGHT
BEGIN:STANDARD
TZOFFSETFROM:+0200
TZOFFSETTO:+0100
TZNAME:CET
DTSTART:20231029T010000
END:STANDARD
BEGIN:DAYLIGHT
TZOFFSETFROM:+0100
TZOFFSETTO:+0200
TZNAME:CEST
DTSTART:20240331T010000
END:DAYLIGHT
BEGIN:STANDARD
TZOFFSETFROM:+0200
TZOFFSETTO:+0100
TZNAME:CET
DTSTART:20241027T010000
END:STANDARD
BEGIN:DAYLIGHT
TZOFFSETFROM:+0100
TZOFFSETTO:+0200
TZNAME:CEST
DTSTART:20250330T010000
END:DAYLIGHT
BEGIN:STANDARD
TZOFFSETFROM:+0200
TZOFFSETTO:+0100
TZNAME:CET
DTSTART:20251026T010000
END:STANDARD
END:VTIMEZONE
BEGIN:VEVENT
DTSTART;TZID=Europe/Stockholm:20240804T080000
DTEND;TZID=Europe/Stockholm:20240804T163000
DTSTAMP:20260421T035410
CREATED:20240228T123945Z
LAST-MODIFIED:20240729T201014Z
UID:865-1722758400-1722789000@mx5rc.se
SUMMARY:Gelleråsen 4 augusti - FULLTECKNAD
DESCRIPTION:MX-5 Racing Clubs Banträff på Gelleråsen\nDenna träff är nu fulltecknad och vi kan tyvärr inte ta emot fler deltagare. \nDu som har hunnit anmäla dig innan 21:30 den 29 juli är varmt välkomna till MX-5 Racing Clubs Bankalas på Gelleråsen utanför Karlskoga! \nFör er som inte varit på Gelleråsen tidigare:\nTa chansen och testa en klassisk svensk motorbana som har en utmanande mix av kurvkombinationer\, kraftiga inbromsningar\, snäva långsammare kurvor och högfartssvängar. Att banan dessutom är förlåtande med väl tilltagna avåkningszoner är ytterligare en fördel. \nFör er som har race-bil och tävlar i MX-5 Cup:\nDå denna träff sker en vecka innan tävlingshelgen på Gelleråsen för MX-5 Cup är det ett perfekt tillfälle att testa bilen och får in spårval och bromspunkter i ryggmärgen inför tävlingen. \nTidsprogram:\n07.45 – 08.45 Besiktning av bilarna\n08:45 – 09.00 Obligatoriskt förarsammanträde vid depåutfarten\nOBS! Innan körning måste bilarna vara besiktigade!\nMed start 09.00 fri körning för samtliga bilar utan tidtagning med indelning i 3 grupper med ca 20-minuters pass:\n1: Lugna passet (nybörjare)\n2: Medel-passet (mer rutinerade banåkare)\n3: Snabba-passet (mycket rutinerade samt godkänd tävlingsbil)\nDå vi på denna träff kommer ha 2 flaggposteringar på banan kommer de flesta av deltagarna behöva stå flaggvakt ett pass (ungefär 30 minuter) under dagen. \nHur du säkrar en plats på denna träffen:\nNotera att anmälan till förarövningen sker i två steg. Förutom anmälan via anmälningsformuläret behöver du betalar in avgiften\, 1050 kr för medlemmar i MX-5 Racing Club och 1400 kr för övriga\, till klubbens Plusgiro 453146-3 eller Bankgiro 223-0811.\nObservera: I priset ingår lunch i restaurangen på banan. \nOBS: När du betalar in ange ”240804 #XYZ” (datumet i YYMMDD-format samt XYZ = medlemsnummer).\nMer information om inbetalning och regler för banträffar hittar du på hemsidan under Träffar. \nFörsäkring på bankalaset:\nAlla som deltar (förare eller passagerare på banan) måste vara försäkringar via SMA. SMA-försäkring kan antingen lösas för ett helt år eller som engångslicens via www.svenskamotorsportalliansen.se\nOBS: VI ERBJUDER INTE FÖRSÄLJNING AV ENGÅNGSLICENSER PÅ PLATS\nKostnader för skador på 2e man (banans inventarier) kan faktureras vidare. \nSäkerhetskrav (lägsta nivå):\nDig själv:\n– Hjälm\, handskar\, läderskor samt heltäckande bomullsklädsel\n– SMA-licens (engång eller helår)\nDin bil:\n– Säkerhetsbälte\n– Båge/rundslagningsskydd krävs i öppen bil\, för mer information om vilken typ av båge som krävs se: https://mx5racingclub.se/forum/viewtopic.php?f=8&t=2217 \nBullerkrav för bankalas:\nFör samtliga bilar gäller max. 95 dB(A) mätt vid förbipassering på raksträcka under acceleration.\nDe bilar som ej klarar denna gräns måste tyvärr tas av banan. \nKörpassorganisation:\nFörare bilar delas normalt in i tre körpass (Snabba\, Medel och Lugna)\nNär förarsammanträdet är klart ställer förarna i upp bilarna i tre köer uppmärkta med vald färg (färgad kona eller liknande). Målsättningen är att hinna med tre körpass i timmen. När ett körpass är avflaggat så återgår man till ”sin” kö om man är redo för att köra nästa pass. Om man behöver kyla av bromsar\, tanka etc så gör man det innan man ställer sig i kön igen. I kön står endast körklara ekipage (på detta sätt undviks stopp i kön pga stillastående ekipage). En annan åtgärd som underlättar är att behålla nycklarna i tändningslåset när man parkerat på plats där det eventuellt kan finnas risk att bilen kan behöva flyttas. \nTräffansvarig: Andreas Eckemark \nVarmt välkomna till MX-5 Racing Clubs banträff på Gelleråsen.
URL:https://mx5rc.se/event/gellerasen/
LOCATION:Gelleråsen\, Gälleråsen 656\, Karlskoga\, 691 91
CATEGORIES:Evenemang
END:VEVENT
BEGIN:VEVENT
DTSTART;TZID=Europe/Stockholm:20240810T080000
DTEND;TZID=Europe/Stockholm:20240811T170000
DTSTAMP:20260421T035410
CREATED:20240329T091046Z
LAST-MODIFIED:20240521T160150Z
UID:1167-1723276800-1723395600@mx5rc.se
SUMMARY:MX-5 Cup Race 3-4 Gelleråsen Arena 10-11 augusti
DESCRIPTION:MX-5 Cup race 3 och 4. \nMer information om denna tävling hittar du här: https://www.spvm.se/tavling/gellerasen-arena-2024/
URL:https://mx5rc.se/event/race-3-4-gellerasen-arena-10-11-augusti/
CATEGORIES:Evenemang
END:VEVENT
BEGIN:VEVENT
DTSTART;TZID=Europe/Stockholm:20240818T083000
DTEND;TZID=Europe/Stockholm:20240818T170000
DTSTAMP:20260421T035410
CREATED:20240228T085146Z
LAST-MODIFIED:20240428T144205Z
UID:845-1723969800-1724000400@mx5rc.se
SUMMARY:Gröndal 18 augusti
DESCRIPTION:MX-5 Sprint Cup på Gröndal\nFörarövningen på Gröndal utanför Eskilstuna kommer erbjuda 2 olika aktiviteter: \nA) Traditionell bankörning på banan.\nOberoende av vilken bana det blir kommer deltagarna delas upp i tre grupper (lugna\, medel och snabba) beroende på ambitionsnivå och erfarenhet så att får chansen att köra i sin takt. \nB) Deltävling i MX-5 Sprint Cup för de som valt att vara med och köra klubbens serie i kon/rundbana. Under en begränsad tid under dagen kommer en deltävling i denna Sprint Cup genomföras på den tekniska och kurviga banan. Det kommer finnas 2 klasser: bilar med gat-däck och bilar med R-däck. \nDagen startar med samling från 08:30 till 09:30. Den obligatoriska förar och säkerhetsgenomgången startar prick 09:30. Efter denna förargenomgång är det fri körning på banan fram till ca: 17:00.\nFör att ge alla deltagare tillräcklig körtid och plats på banan är antalet förare begränsade (maximalt 30 deltagare) och det är först till kvarn som gäller. \nHur du säkrar en plats på denna träffen:\nNotera att anmälan till förarövningen sker i två steg. Först anmäler du dig via anmälningsformuläret du hittar här: Anmäl dig här\nSedan betalar du in avgiften\, 650 kr för medlemmar i MX-5 Racing Club och 850 kr för övriga\, till klubbens Plusgiro 453146-3 eller Bankgiro 223-0811.\nOBS: När du betalar in ange ”240818 #XYZ” (datum i YYMMDD-format samt medlemsnummer alt namn om du inte är medlem). \nFörsäkring:\nAlla som deltar (förare eller passagerare på banan) måste vara försäkringar via SMA. SMA-försäkring kan antingen lösas för ett helt år eller som engångslicens via www.svenskamotorsportalliansen.se\nOBS: VI ERBJUDER INTE FÖRSÄLJNING AV ENGÅNGSLICENSER PÅ PLATS\nMer information om inbetalning och regler för banträffar hittar du på hemsidan under Träffar.\nTräffansvarig: Andreas Eckemark\nVarmt välkomna till Gröndal
URL:https://mx5rc.se/event/grondal/
LOCATION:Gröndal motorstadion\, Eskilstuna
CATEGORIES:Evenemang
END:VEVENT
BEGIN:VEVENT
DTSTART;TZID=Europe/Stockholm:20240819T080000
DTEND;TZID=Europe/Stockholm:20240819T170000
DTSTAMP:20260421T035410
CREATED:20240228T134207Z
LAST-MODIFIED:20240428T144039Z
UID:878-1724054400-1724086800@mx5rc.se
SUMMARY:Ring Knutstorp inbjudna till SVGKs trackday 19 augusti
DESCRIPTION:Trackday med SVKG på Ring Knutstorp \nI mån av plats har du som medlem i MX-5 Racing Club möjlighet att vara med på köra på Sportvagnsklubben Göteborgs trackday på Ring Knutstorp i Skåne.\nFör mer information och hur man anmäler sig till denna träffen se https://svkg.se/evenemang/banmote-2024-08-19/
URL:https://mx5rc.se/event/ring-knutstorp-inbjudna-till-svgks-trackday/
CATEGORIES:Evenemang
END:VEVENT
BEGIN:VEVENT
DTSTART;TZID=Europe/Stockholm:20240825T090000
DTEND;TZID=Europe/Stockholm:20240825T160000
DTSTAMP:20260421T035410
CREATED:20240228T124041Z
LAST-MODIFIED:20240711T130800Z
UID:867-1724576400-1724601600@mx5rc.se
SUMMARY:Ljungbyhed 25 augusti
DESCRIPTION:Konbana och MX-5 Sprint Cup – Ljungbyhed Park\nAlla medlemmar i MX-5 Racing klubb\, både de som vill prova på för första gången och de mer erfarna\, är hjärtligt välkomna på körning i konbana på Ljungbyheds flygfält. \nDet kommer att bli 2 olika aktiviteter:\nA) Slalomkörning i en teknisk konbana. Hastigheten genom konbanans olika delar kommer ligger mellan ca 40-100 km/h vilket passar våra bilar mycket bra. Vi erbjuder tidtagning under hela dagen i konbanan.\nB) Deltävling i MX-5 Sprint Cup (klubbens serie i konbana). Under en begränsad tid under dagen kommer denna tävling genomföras i konbanan. Det kommer finnas 2 klasser: bilar med gat-däck och bilar med R-däck. \nDagen startar med samling från 09:00. Den obligatoriska förar- och säkerhetsgenomgången startar prick 09:30. Efter denna förargenomgång är det fri körning i konbanan fram till ca 16:00.\nFör att ge alla deltagare tillräcklig körtid är antalet förare begränsade och det är först till kvarn som gäller. \nHur du säkrar en plats på denna träffen:\nNotera att anmälan till förarövningen sker i två steg. Först anmäler du dig via anmälningsformuläret du hittar här: Anmäl dig här\nSedan betalar du in avgiften (500 kr för medlemmar och 650 kr för övriga) till klubbens Plusgiro 453146-3 eller Bankgiro 223-0811.\nOBS: När du betalar in ange ”240825 #XYZ” (datumet i YYMMDD-format samt XYZ = medlemsnummer alt namn om du inte är medlem). \nFörsäkring:\nAlla som deltar (förare eller passagerare på banan) måste vara försäkringar via SMA. SMA-försäkring kan antingen lösas för ett helt år eller som engångslicens via www.svenskamotorsportalliansen.se\nOBS: VI ERBJUDER INTE FÖRSÄLJNING AV ENGÅNGSLICENSER PÅ PLATS\nMer information om inbetalning och regler för banträffar hittar du på hemsidan under Träffar.\nTräffansvarig: Victor Bagge\nVarmt välkomna till Konbana på Ljungbyhed Park.
URL:https://mx5rc.se/event/ljungbyhed-2/
LOCATION:Ljungbyhed\, Thulinvägen 23\, Ljungbyhed\, 26451
CATEGORIES:Evenemang
END:VEVENT
END:VCALENDAR