BEGIN:VCALENDAR
VERSION:2.0
PRODID:-//MX-5 Racing Club - ECPv6.15.20//NONSGML v1.0//EN
CALSCALE:GREGORIAN
METHOD:PUBLISH
X-ORIGINAL-URL:https://mx5rc.se
X-WR-CALDESC:Händelser för MX-5 Racing Club
REFRESH-INTERVAL;VALUE=DURATION:PT1H
X-Robots-Tag:noindex
X-PUBLISHED-TTL:PT1H
BEGIN:VTIMEZONE
TZID:Europe/Stockholm
BEGIN:DAYLIGHT
TZOFFSETFROM:+0100
TZOFFSETTO:+0200
TZNAME:CEST
DTSTART:20230326T010000
END:DAYLIGHT
BEGIN:STANDARD
TZOFFSETFROM:+0200
TZOFFSETTO:+0100
TZNAME:CET
DTSTART:20231029T010000
END:STANDARD
BEGIN:DAYLIGHT
TZOFFSETFROM:+0100
TZOFFSETTO:+0200
TZNAME:CEST
DTSTART:20240331T010000
END:DAYLIGHT
BEGIN:STANDARD
TZOFFSETFROM:+0200
TZOFFSETTO:+0100
TZNAME:CET
DTSTART:20241027T010000
END:STANDARD
BEGIN:DAYLIGHT
TZOFFSETFROM:+0100
TZOFFSETTO:+0200
TZNAME:CEST
DTSTART:20250330T010000
END:DAYLIGHT
BEGIN:STANDARD
TZOFFSETFROM:+0200
TZOFFSETTO:+0100
TZNAME:CET
DTSTART:20251026T010000
END:STANDARD
END:VTIMEZONE
BEGIN:VEVENT
DTSTART;TZID=Europe/Stockholm:20240602T103000
DTEND;TZID=Europe/Stockholm:20240602T183000
DTSTAMP:20260421T074312
CREATED:20240228T123753Z
LAST-MODIFIED:20240428T074508Z
UID:861-1717324200-1717353000@mx5rc.se
SUMMARY:Malmby 2 juni
DESCRIPTION:Konbana\, rundbana och MX-5 Sprint Cup \nAlla medlemmar i MX-5 Racing klubb\, både de som vill prova på för första gången och de mer erfarna\, är hjärtligt välkomna till banträff på Malmby flygfält utanför Strängnäs. \nDet erbjuds 3 olika aktiviteter: \nA) Slalomkörning på landningsbanan med en konbanan som kommer vara ca 1 km och väldigt teknisk med bland annat: kurvtagning under acceleration\, kurvtagning under inbromsning\, hårnål i låg fart och rak slalom i hög fart. Hastigheten genom konbanans olika delar kommer ligger mellan ca 40 -80 km/h vilket passar våra bilar mycket bra.\nVi kommer erbjuda tidtagning under hela dagen konbanan. \nB) Bankörning på en slinga som består av taxbanorna + del av landningsbanan under hela dagen. Även om det inte är en ”riktig” bana\, som t.ex. Kinnekulle\, är det en mycket rolig teknisk slinga med snäva kurvor som passar Miatan mycket bra. Rundbanan som är ca 900 meter lång innebär också lite lägre fart än en ”riktig” banan vilket passar speciellt bra om man har begränsad erfarenhet av bankörning. \nC) Deltävling i MX-5 Sprint Cup (klubbens serie i konbana). Under en begränsad tid under dagen kommer denna tävling genomföras i konbanan. Det kommer finnas 2 klasser: bilar med gat-däck och bilar med R-däck.\nDagen startar med samling från 08:30. Den obligatoriska förar- och säkerhetsgenomgången startar prick 09:30. Efter denna förargenomgång är det fri körning i rundbana och konbana fram till 16:30.\nDå vi på denna träff kommer ha 1 flaggpostering kommer en del av deltagarna behöva stå flaggvakt ett pass om 20-30 minuter under dagen. \nHur du säkrar en plats på denna träffen:\nNotera att anmälan till förarövningen sker i två steg. Först anmäler du dig via anmälningsformuläret du hittar här: Anmäl dig här\nSedan betalar du in avgiften (500 kr för medlemmar och 650 kr för övriga) till klubbens Plusgiro 453146-3 eller Bankgiro 223-0811.\nOBS: När du betalar in ange ”240602 #XYZ” (datumet i YYMMDD-format samt XYZ = medlemsnummer alt namn om du inte är medlem). \nFörsäkring:\nAlla som deltar (förare eller passagerare på banan) måste vara försäkringar via SMA. SMA-försäkring kan antingen lösas för ett helt år eller som engångslicens via www.svenskamotorsportalliansen.se\nOBS: VI ERBJUDER INTE FÖRSÄLJNING AV ENGÅNGSLICENSER PÅ PLATS\nMer information om inbetalning och regler för banträffar hittar du på hemsidan under Träffar. \nTräffansvarig: Andreas Eckemark\nVarmt välkomna till träffen på Malmby. \n 
URL:https://mx5rc.se/event/malmby/
CATEGORIES:Evenemang
END:VEVENT
BEGIN:VEVENT
DTSTART;TZID=Europe/Stockholm:20240607T080000
DTEND;TZID=Europe/Stockholm:20240609T170000
DTSTAMP:20260421T074312
CREATED:20240329T090946Z
LAST-MODIFIED:20240521T155953Z
UID:1165-1717747200-1717952400@mx5rc.se
SUMMARY:MX-5 Cup Race 1-2  Rudskogen Motorsenter 7-9 Juni
DESCRIPTION:MX-5 Cup race 1 och 2. \nInformation om denna tävling hittar du här: https://www.spvm.se/tavling/rudskogen-2024/
URL:https://mx5rc.se/event/race-1-2-rudskogen-motorsenter-8-9-juni/
CATEGORIES:Evenemang
END:VEVENT
BEGIN:VEVENT
DTSTART;TZID=Europe/Stockholm:20240608T103000
DTEND;TZID=Europe/Stockholm:20240608T190000
DTSTAMP:20260421T074312
CREATED:20240228T094107Z
LAST-MODIFIED:20240528T181448Z
UID:850-1717842600-1717873200@mx5rc.se
SUMMARY:Salabanan inbjudna till banträff  8 juni
DESCRIPTION:Banträff på Salabanan\nPå lördagen den 8 juni är MX-5 Racing Club inbjudna att vara med på banträff på Salabanan. \nDet blir körning från kl 10:00 till 16:00 och kommer erbjudas flera bansträckningar under dagen med olika karaktär så du kommer få känslan att du kört på flera banor. \nDu kommer kunna välja lämplig fartgrupp och det blir mycket körning. Instruktörshjälp och även tips på justeringar ingår för den som önskar. Tryckluft\, domkraft\, muttermaskin mm finns vid behov. \nFör mer information se: https://salabanan.se/Bankorning \nFör att anmäla dig till denna träff\, ring Johan på 070 772 6692 eller maila till info@salabanan.se \nTräffansvarig: Johan Teden\nVarmt välkomna till Salabanan
URL:https://mx5rc.se/event/salabanan/
CATEGORIES:Evenemang
END:VEVENT
END:VCALENDAR