BEGIN:VCALENDAR
VERSION:2.0
PRODID:-//MX-5 Racing Club - ECPv6.15.20//NONSGML v1.0//EN
CALSCALE:GREGORIAN
METHOD:PUBLISH
X-ORIGINAL-URL:https://mx5rc.se
X-WR-CALDESC:Händelser för MX-5 Racing Club
REFRESH-INTERVAL;VALUE=DURATION:PT1H
X-Robots-Tag:noindex
X-PUBLISHED-TTL:PT1H
BEGIN:VTIMEZONE
TZID:Europe/Stockholm
BEGIN:DAYLIGHT
TZOFFSETFROM:+0100
TZOFFSETTO:+0200
TZNAME:CEST
DTSTART:20230326T010000
END:DAYLIGHT
BEGIN:STANDARD
TZOFFSETFROM:+0200
TZOFFSETTO:+0100
TZNAME:CET
DTSTART:20231029T010000
END:STANDARD
BEGIN:DAYLIGHT
TZOFFSETFROM:+0100
TZOFFSETTO:+0200
TZNAME:CEST
DTSTART:20240331T010000
END:DAYLIGHT
BEGIN:STANDARD
TZOFFSETFROM:+0200
TZOFFSETTO:+0100
TZNAME:CET
DTSTART:20241027T010000
END:STANDARD
BEGIN:DAYLIGHT
TZOFFSETFROM:+0100
TZOFFSETTO:+0200
TZNAME:CEST
DTSTART:20250330T010000
END:DAYLIGHT
BEGIN:STANDARD
TZOFFSETFROM:+0200
TZOFFSETTO:+0100
TZNAME:CET
DTSTART:20251026T010000
END:STANDARD
END:VTIMEZONE
BEGIN:VEVENT
DTSTART;TZID=Europe/Stockholm:20240504T080000
DTEND;TZID=Europe/Stockholm:20240504T170000
DTSTAMP:20260421T093913
CREATED:20240228T134104Z
LAST-MODIFIED:20240428T143414Z
UID:875-1714809600-1714842000@mx5rc.se
SUMMARY:Ring Knutstorp Inbjudna till Lotusklubbens trackday 4 maj
DESCRIPTION:Trackday med Lotusklubben på Ring Knutstorp\nI mån av plats har du som medlem i MX-5 Racing Club möjlighet att vara med på köra på Lotusklubbens trackday på Ring Knutstorp i Skåne.\nFör mer information och hur man anmäler sig till denna träffen se https://www.lccs.nu/ 
URL:https://mx5rc.se/event/ring-knutstorp-inbjudna-till-lotusklubbens-trackday/
CATEGORIES:Evenemang
END:VEVENT
BEGIN:VEVENT
DTSTART;TZID=Europe/Stockholm:20240509T100000
DTEND;TZID=Europe/Stockholm:20240509T190000
DTSTAMP:20260421T093913
CREATED:20240228T134324Z
LAST-MODIFIED:20240418T143413Z
UID:881-1715248800-1715281200@mx5rc.se
SUMMARY:Ring Knutstorp inbjudna till SVGKs trackday (och SBF licenskurs) 9 maj
DESCRIPTION:Trackday med SVKG på Ring Knutstorp\nI mån av plats har du som medlem i MX-5 Racing klubb möjlighet att vara med på köra på Sportvagnsklubben Göteborgs trackday på Ring Knutstorp i Skåne. Det finns även möjlighet att ta SBF förarlicens på denna träffen!\nFör mer information och hur man anmäler sig till denna träffen se https://svkg.se/evenemang/testdag-2024/
URL:https://mx5rc.se/event/ring-knutstorp-inbjudna-till-svgks-trackday-2/
CATEGORIES:Evenemang
END:VEVENT
BEGIN:VEVENT
DTSTART;TZID=Europe/Stockholm:20240518T100000
DTEND;TZID=Europe/Stockholm:20240518T183000
DTSTAMP:20260421T093913
CREATED:20240228T094225Z
LAST-MODIFIED:20240510T130909Z
UID:852-1716026400-1716057000@mx5rc.se
SUMMARY:Kinnekulle Ring 18 maj
DESCRIPTION:Banträff på Kinnekulle\nVarmt välkomna till MX-5 Racing Clubs traditionsenlig bankalas på Kinnekulle ring\nNu är det dags att ta ut och lufta våra miator på en riktig motorbana. ”Bankalaset” går traditionsenligt av stapeln på den spännande och krävande racerbanan Kinnekulle Ring strax utanför Götene. Liksom senaste året kör vi detta bankalas i början på säsongen. Programmet är späckat med en väldigt mycket asfalts-tid och instruktörer kommer att finnas tillgängliga under dagen. \nTidsprogram:\n07.45 – 08.45 Besiktning av bilarna\n08:45 – 09.00 Obligatoriskt förarsammanträde samt ”Följa-John” körning 2-3 varv\nOBS! Innan körning måste bilarna vara besiktigade!\n09.00 – 16.30 Fri körning för samtliga bilar utan tidtagning med indelning i 3 grupper med ca 20-minuters pass:\n1: Lugna passet (nybörjare och ev. med passagerare)\n2: Medel-passet (rutinerade utan passagerare)\n3: Snabba-passet (godkänd tävlingsbil)\nDå vi på denna träff kommer ha 3 flaggposteringar på banan kommer du som deltagarna behöva stå flaggvakt ett pass under dagen. \nMöjlighet till vagnsboksbesiktning:\nFör dig som har en racebil så finns det möjlighet att få vagnsboksbesiktningen gjord på Kinnekulle Ring. Vid 10-tiden kommer en SBF besiktningsman till depån och genomför vagnsboksbesiktning vid depåplatsen närmast utsläppet på banan. \nFör dig som kommer dit dagen innan:\nOm du planerar komma till banan på fredagen går det bra att parkera i den nedre depån och även sova där. Se dock till att inte störa de som har hyrt banan på fredagen.\nOch för dig som planerar att bo på hotell finns det ett erbjudande från Hotell Gustaf med följande priser om man anger ”MX-5” när man bokar via info@hotellgustaf.se alternativt telefon 0511-59010:\n– Dubbelrum 932 kr inkl frukost\n– Enkelrum 840 kr inkl frukost \nHur du säkrar en plats på denna träffen:\nNotera att anmälan till banträffensker i två steg. Först anmäler du dig via anmälningsformuläret du hittar här: Anmäl dig här\nSedan betalar du in avgiften till Pgiro 453146-3 / Bgiro 223-0811 och det kostar 900 kr för medlem i MX-5 Racing Club och 1200 kr för övriga.\nOBS: När du betalar in ange ”240518 #XYZ” (datumet i YYMMDD-format samt XYZ = medlemsnummer).\nMer information om inbetalning och regler för banträffar hittar du på hemsidan under Träffar. \nFörsäkring på bankalaset:\nAlla som deltar (förare eller passagerare på banan) måste vara försäkringar via SMA. SMA-försäkring kan antingen lösas för ett helt år eller som engångslicens via www.svenskamotorsportalliansen.se\nOBS: VI ERBJUDER INTE FÖRSÄLJNING AV ENGÅNGSLICENSER PÅ PLATS\nKostnader för skador på 2e man (banans inventarier) kan faktureras vidare. \nSäkerhetskrav (lägsta nivå):\nDig själv:\n– Hjälm\, handskar\, läderskor samt heltäckande bomullsklädsel\n– SMA-licens (engång eller helår)\nDin bil:\n– Säkerhetsbälte\n– Båge/rundslagningsskydd krävs i öppen bil \nBullerkrav för bankalas:\nFör samtliga bilar gäller max. 95 dB(A) mätt vid förbipassering på raksträcka under acceleration.\nDe bilar som ej klarar denna gräns måste tyvärr tas av banan. \nKörpassorganisation:\nFörare bilar delas normalt in i tre körpass (Snabba\, Medel och Lugna)\nNär förarsammanträdet är klart ställer förarna i upp bilarna i tre köer uppmärkta med vald färg (färgad kona eller liknande). Målsättningen är att hinna med tre körpass i timmen. När ett körpass är avflaggat så återgår man till ”sin” kö om man är redo för att köra nästa pass. Om man behöver kyla av bromsar\, tanka etc så gör man det innan man ställer sig i kön igen. I kön står endast körklara ekipage (på detta sätt undviks stopp i kön pga stillastående ekipage). En annan åtgärd som underlättar är att behålla nycklarna i tändningslåset när man parkerat på plats där det eventuellt kan finnas risk att bilen kan behöva flyttas. \nOm ni har frågor kan ni kontakta träffansvarig: Andreas Eckemark. \nVarmt välkomna till MX-5 Racing Clubs bankalas på Kinnekulle
URL:https://mx5rc.se/event/kinnekulle-ring/
LOCATION:Kinnekulle ring\, Kinne-Kleva\, 533 96 GÖTENE
CATEGORIES:Evenemang
END:VEVENT
END:VCALENDAR